BEGIN:VCALENDAR
VERSION:2.0
PRODID:-//Tukios.com/
BEGIN:VEVENT
UID:eef72ef1-9416-4672-9b99-c24b2a8a78af@www.gardencityfh.com
DTSTAMP:20260421T231456Z
DTSTART:20260502T170000Z
DTEND:20260502T180000Z
SUMMARY:Funeral Service
DESCRIPTION:
URL:https://www.gardencityfh.com/obituaries/bernice-white
LOCATION:Garden City Funeral Home 1705 W. Broadway St.  Missoula MT 59808
GEO:46.8802424;-114.0227786
END:VEVENT
END:VCALENDAR