BEGIN:VCALENDAR
VERSION:2.0
PRODID:-//Tukios.com/
BEGIN:VEVENT
UID:79284313-2cab-4631-b2b0-c05ba38444ce@www.gardencityfh.com
DTSTAMP:20260422T215435Z
DTSTART:20260425T190000Z
DTEND:20260425T200000Z
SUMMARY:Memorial Gathering
DESCRIPTION:
URL:https://www.gardencityfh.com/obituaries/casey-callison
LOCATION:Alberton Community Center 701 Railroad Ave  Alberton MT 59820
GEO:47.0023957;-114.4762827
END:VEVENT
END:VCALENDAR