BEGIN:VCALENDAR
VERSION:2.0
PRODID:-//Tukios.com/
BEGIN:VEVENT
UID:f0caf344-a0eb-4a9d-8f90-372e74ad021f@www.gardencityfh.com
DTSTAMP:20260421T051108Z
DTSTART:20260423T160000Z
DTEND:20260423T170000Z
SUMMARY:Funeral Service
DESCRIPTION:
URL:https://www.gardencityfh.com/obituaries/dale-barnum
LOCATION: 1475 Eaton St  Missoula MT 59801
GEO:46.8576244;-114.0346665
END:VEVENT
END:VCALENDAR