BEGIN:VCALENDAR
VERSION:2.0
PRODID:-//Tukios.com/
BEGIN:VEVENT
UID:70794eba-2a30-4a1c-a516-7c91b7cc11d3@www.gardencityfh.com
DTSTAMP:20260421T051119Z
DTSTART:20260423T170000Z
DTEND:20260423T184500Z
SUMMARY:Reception
DESCRIPTION:
URL:https://www.gardencityfh.com/obituaries/dale-barnum
LOCATION: 1475 Eaton St  Missoula MT 59801
GEO:46.8576244;-114.0346665
END:VEVENT
END:VCALENDAR