BEGIN:VCALENDAR
VERSION:2.0
PRODID:-//Tukios.com/
BEGIN:VEVENT
UID:3c343986-253c-4a7a-92a5-477ca3aec4ee@www.gardencityfh.com
DTSTAMP:20260421T050817Z
DTSTART:20260423T193000Z
DTEND:20260423T200000Z
SUMMARY:Burial
DESCRIPTION:
URL:https://www.gardencityfh.com/obituaries/dale-barnum
LOCATION: 1911 Tower St  Missoula MT 59804
GEO:46.852935;-114.060236
END:VEVENT
END:VCALENDAR