BEGIN:VCALENDAR
VERSION:2.0
PRODID:-//Tukios.com/
BEGIN:VEVENT
UID:8a9793c9-557b-45cc-99e9-da2c5a9a9893@www.gardencityfh.com
DTSTAMP:20260424T220613Z
DTSTART:20260627T000000Z
DTEND:20260627T010000Z
SUMMARY:Vigil Mass
DESCRIPTION:
URL:https://www.gardencityfh.com/obituaries/donald-round
LOCATION: 1400 Gerald Ave  Missoula MT 59801
GEO:46.857764;-113.9952127
END:VEVENT
END:VCALENDAR