BEGIN:VCALENDAR
VERSION:2.0
PRODID:-//Tukios.com/
BEGIN:VEVENT
UID:7e54b102-f186-4d0e-a08b-900e404939e1@www.gardencityfh.com
DTSTAMP:20260424T220538Z
DTSTART:20260627T210000Z
DTEND:20260627T220000Z
SUMMARY:Funeral Service
DESCRIPTION:
URL:https://www.gardencityfh.com/obituaries/donald-round
LOCATION: 1400 Gerald Ave  Missoula MT 59801
GEO:46.857764;-113.9952127
END:VEVENT
END:VCALENDAR