BEGIN:VCALENDAR
VERSION:2.0
PRODID:-//Tukios.com/
BEGIN:VEVENT
UID:7c1afcee-3a85-4480-92a3-4af8926a5854@www.gardencityfh.com
DTSTAMP:20260420T185706Z
DTSTART:20260425T190000Z
DTEND:20260425T200000Z
SUMMARY:Memorial Service
DESCRIPTION:
URL:https://www.gardencityfh.com/obituaries/jaime-spaulding
LOCATION:Grace Methodist Church 1756 S 10th St W  Missoula MT 59801
GEO:46.8608217;-114.0239438
END:VEVENT
END:VCALENDAR