BEGIN:VCALENDAR
VERSION:2.0
PRODID:-//Tukios.com/
BEGIN:VEVENT
UID:fd3f5c17-fd29-49bb-bf00-c789791aae71@www.gardencityfh.com
DTSTAMP:20260426T040122Z
DTSTART:20260619T180000Z
DTEND:20260619T190000Z
SUMMARY:Celebration of Life
DESCRIPTION:
URL:https://www.gardencityfh.com/obituaries/thomas-donofrio
LOCATION:Western Montana State Veterans Cemetery 1911 Tower St  Missoula 
	MT 59804
GEO:46.8533121;-114.0595228
END:VEVENT
END:VCALENDAR